BEGIN:VCALENDAR
VERSION:2.0
PRODID:-//Cercle d'Escrime de Geispolsheim//NONSGML kigkonsult.se iCalcreator 2.41.92//
CALSCALE:GREGORIAN
METHOD:PUBLISH
UID:38656437-6266-4264-a531-666431363531
X-WR-CALNAME:iCagenda
X-WR-CALDESC:Event Management Extension for Joomla!
X-WR-RELCALID:3E26604A-50F4-4449-8B3E-E4F4932D05B5
X-WR-TIMEZONE:UTC
BEGIN:VTIMEZONE
TZID:UTC
END:VTIMEZONE
BEGIN:VEVENT
UID:37353632-6364-4630-a630-386533333063
DTSTAMP:20260425T134902Z
CATEGORIES:Tournoi de Club
CLASS:PUBLIC
DESCRIPTION:
DTSTART:20260516T000000Z
DTEND:20260517T000000Z
GEO:00;0
LOCATION:Bar-le-Duc
ORGANIZER:
SEQUENCE:1
SUMMARY:Tournoi loisir - M9\, M11\, M13\, M15\, M17\, M20\, sénior\, vétéra
 n - Indiv H/D
TRANSP:OPAQUE
URL:https://escrime-geis.fr/nos-dates-clefs/tournoi-loisir-m9-m11-m13-m15-m
 17-m20-senior-veteran-indiv-h-d
END:VEVENT
END:VCALENDAR
