BEGIN:VCALENDAR
VERSION:2.0
PRODID:-//Cercle d'Escrime de Geispolsheim//NONSGML kigkonsult.se iCalcreator 2.41.92//
CALSCALE:GREGORIAN
METHOD:PUBLISH
UID:61343061-3433-4961-a661-346239393263
X-WR-CALNAME:iCagenda
X-WR-CALDESC:Event Management Extension for Joomla!
X-WR-RELCALID:3E26604A-50F4-4449-8B3E-E4F4932D05B5
X-WR-TIMEZONE:UTC
BEGIN:VTIMEZONE
TZID:UTC
END:VTIMEZONE
BEGIN:VEVENT
UID:39386235-6664-4139-a432-393937343631
DTSTAMP:20260423T134326Z
CATEGORIES:Tournoi de Club
CLASS:PUBLIC
DESCRIPTION:
DTSTART:20260514T000000Z
DTEND:20260514T000000Z
GEO:00;0
LOCATION:Troyes
ORGANIZER:
SEQUENCE:1
SUMMARY:Challenge national Epée  - M11 / M13 - Equi
TRANSP:OPAQUE
URL:https://escrime-geis.fr/nos-dates-clefs/challenge-national-epee-m11-m13
 -equi/2026-05-14-00-00
END:VEVENT
END:VCALENDAR
