BEGIN:VCALENDAR
VERSION:2.0
PRODID:-//Cercle d'Escrime de Geispolsheim//NONSGML kigkonsult.se iCalcreator 2.41.92//
CALSCALE:GREGORIAN
METHOD:PUBLISH
UID:30623732-3336-4537-b836-363465616537
X-WR-CALNAME:iCagenda
X-WR-CALDESC:Event Management Extension for Joomla!
X-WR-RELCALID:3E26604A-50F4-4449-8B3E-E4F4932D05B5
X-WR-TIMEZONE:UTC
BEGIN:VTIMEZONE
TZID:UTC
END:VTIMEZONE
BEGIN:VEVENT
UID:62346133-6361-4735-b037-333832306435
DTSTAMP:20260425T135405Z
CATEGORIES:Compétition Escrime Fauteuil
CLASS:PUBLIC
DESCRIPTION:
DTSTART:20260516T000000Z
DTEND:20260517T000000Z
GEO:00;0
LOCATION:Orange
ORGANIZER:
SEQUENCE:1
SUMMARY:Challenge Guillaume - Fauteuil - M17\, M20\, Seniors - Indiv H/D
TRANSP:OPAQUE
URL:https://escrime-geis.fr/nos-dates-clefs/challenge-guillaume-fauteuil-m1
 7-m20-seniors-indiv-h-d
END:VEVENT
END:VCALENDAR
